BEGIN:VCALENDAR
VERSION:2.0
PRODID:-//The Links at Stono Ferry - ECPv6.15.20//NONSGML v1.0//EN
CALSCALE:GREGORIAN
METHOD:PUBLISH
X-WR-CALNAME:The Links at Stono Ferry
X-ORIGINAL-URL:https://stonoferrygolf.com
X-WR-CALDESC:Events for The Links at Stono Ferry
REFRESH-INTERVAL;VALUE=DURATION:PT1H
X-Robots-Tag:noindex
X-PUBLISHED-TTL:PT1H
BEGIN:VTIMEZONE
TZID:America/New_York
BEGIN:DAYLIGHT
TZOFFSETFROM:-0500
TZOFFSETTO:-0400
TZNAME:EDT
DTSTART:20230312T070000
END:DAYLIGHT
BEGIN:STANDARD
TZOFFSETFROM:-0400
TZOFFSETTO:-0500
TZNAME:EST
DTSTART:20231105T060000
END:STANDARD
BEGIN:DAYLIGHT
TZOFFSETFROM:-0500
TZOFFSETTO:-0400
TZNAME:EDT
DTSTART:20240310T070000
END:DAYLIGHT
BEGIN:STANDARD
TZOFFSETFROM:-0400
TZOFFSETTO:-0500
TZNAME:EST
DTSTART:20241103T060000
END:STANDARD
BEGIN:DAYLIGHT
TZOFFSETFROM:-0500
TZOFFSETTO:-0400
TZNAME:EDT
DTSTART:20250309T070000
END:DAYLIGHT
BEGIN:STANDARD
TZOFFSETFROM:-0400
TZOFFSETTO:-0500
TZNAME:EST
DTSTART:20251102T060000
END:STANDARD
END:VTIMEZONE
BEGIN:VEVENT
DTSTART;TZID=America/New_York:20240917T060000
DTEND;TZID=America/New_York:20240917T110000
DTSTAMP:20260420T081420
CREATED:20240711T180705Z
LAST-MODIFIED:20240711T180705Z
UID:5452-1726552800-1726570800@stonoferrygolf.com
SUMMARY:Range Maintenance 6-11am
DESCRIPTION:All practice facilities will be closed until 11am.
URL:https://stonoferrygolf.com/event/range-maintenance-6-11am-12/
LOCATION:Links at Stono Ferry\, 4812 Stono Links Drive\, Hollywood\, SC\, United States
END:VEVENT
BEGIN:VEVENT
DTSTART;TZID=America/New_York:20240914T080000
DTEND;TZID=America/New_York:20240914T170000
DTSTAMP:20260420T081420
CREATED:20240130T221130Z
LAST-MODIFIED:20240130T221130Z
UID:5302-1726300800-1726333200@stonoferrygolf.com
SUMMARY:MGA One-Day Member-Guest at Edisto
DESCRIPTION:
URL:https://stonoferrygolf.com/event/mga-one-day-member-guest-at-edisto/
LOCATION:Plantation Course at Edisto Beach\, 19 Fairway Drive\, Edisto Island\, SC\, United States
CATEGORIES:MGA
END:VEVENT
BEGIN:VEVENT
DTSTART;TZID=America/New_York:20240912T060000
DTEND;TZID=America/New_York:20240912T110000
DTSTAMP:20260420T081420
CREATED:20240711T180537Z
LAST-MODIFIED:20240711T180537Z
UID:5450-1726120800-1726138800@stonoferrygolf.com
SUMMARY:Range Maintenance 6-11am
DESCRIPTION:All practice facilities will be closed until 11am.
URL:https://stonoferrygolf.com/event/range-maintenance-6-11am-11/
LOCATION:Links at Stono Ferry\, 4812 Stono Links Drive\, Hollywood\, SC\, United States
END:VEVENT
BEGIN:VEVENT
DTSTART;TZID=America/New_York:20240910T100000
DTEND;TZID=America/New_York:20240910T143000
DTSTAMP:20260420T081420
CREATED:20240711T182324Z
LAST-MODIFIED:20240711T182324Z
UID:5468-1725962400-1725978600@stonoferrygolf.com
SUMMARY:Topdressing Greens
DESCRIPTION:Tee sheet blocked from 11:00 am – 2:30 pm.
URL:https://stonoferrygolf.com/event/topdressing-greens-7/
LOCATION:Links at Stono Ferry\, 4812 Stono Links Drive\, Hollywood\, SC\, United States
END:VEVENT
BEGIN:VEVENT
DTSTART;TZID=America/New_York:20240907T080000
DTEND;TZID=America/New_York:20240908T170000
DTSTAMP:20260420T081420
CREATED:20240130T221059Z
LAST-MODIFIED:20240130T221059Z
UID:5300-1725696000-1725814800@stonoferrygolf.com
SUMMARY:Stono Ferry Club Championship
DESCRIPTION:
URL:https://stonoferrygolf.com/event/stono-ferry-club-championship/
LOCATION:Links at Stono Ferry\, 4812 Stono Links Drive\, Hollywood\, SC\, United States
CATEGORIES:Member Event
END:VEVENT
BEGIN:VEVENT
DTSTART;TZID=America/New_York:20240905T060000
DTEND;TZID=America/New_York:20240905T110000
DTSTAMP:20260420T081420
CREATED:20240711T180441Z
LAST-MODIFIED:20240711T180441Z
UID:5448-1725516000-1725534000@stonoferrygolf.com
SUMMARY:Range Maintenance 6-11am
DESCRIPTION:All practice facilities will be closed until 11am.
URL:https://stonoferrygolf.com/event/range-maintenance-6-11am-10/
LOCATION:Links at Stono Ferry\, 4812 Stono Links Drive\, Hollywood\, SC\, United States
END:VEVENT
BEGIN:VEVENT
DTSTART;TZID=America/New_York:20240828T110000
DTEND;TZID=America/New_York:20240828T143000
DTSTAMP:20260420T081420
CREATED:20240711T182220Z
LAST-MODIFIED:20240711T182231Z
UID:5466-1724842800-1724855400@stonoferrygolf.com
SUMMARY:Topdressing Greens
DESCRIPTION:Tee sheet blocked from 11:00 am – 2:30 pm.
URL:https://stonoferrygolf.com/event/topdressing-greens-6/
LOCATION:Links at Stono Ferry\, 4812 Stono Links Drive\, Hollywood\, SC\, United States
END:VEVENT
BEGIN:VEVENT
DTSTART;TZID=America/New_York:20240827T060000
DTEND;TZID=America/New_York:20240827T110000
DTSTAMP:20260420T081420
CREATED:20240711T180355Z
LAST-MODIFIED:20240711T180355Z
UID:5446-1724738400-1724756400@stonoferrygolf.com
SUMMARY:Range Maintenance 6-11am
DESCRIPTION:All practice facilities will be closed until 11am.
URL:https://stonoferrygolf.com/event/range-maintenance-6-11am-9/
LOCATION:Links at Stono Ferry\, 4812 Stono Links Drive\, Hollywood\, SC\, United States
END:VEVENT
BEGIN:VEVENT
DTSTART;TZID=America/New_York:20240822T060000
DTEND;TZID=America/New_York:20240822T110000
DTSTAMP:20260420T081420
CREATED:20240711T180235Z
LAST-MODIFIED:20240711T180235Z
UID:5444-1724306400-1724324400@stonoferrygolf.com
SUMMARY:Range Maintenance 6-11am
DESCRIPTION:All practice facilities will be closed until 11am.
URL:https://stonoferrygolf.com/event/range-maintenance-6-11am-8/
LOCATION:Links at Stono Ferry\, 4812 Stono Links Drive\, Hollywood\, SC\, United States
END:VEVENT
BEGIN:VEVENT
DTSTART;TZID=America/New_York:20240820T110000
DTEND;TZID=America/New_York:20240820T143000
DTSTAMP:20260420T081420
CREATED:20240711T181902Z
LAST-MODIFIED:20240711T181902Z
UID:5464-1724151600-1724164200@stonoferrygolf.com
SUMMARY:Topdressing Greens
DESCRIPTION:Tee sheet blocked from 11:00 am – 2:30 pm.
URL:https://stonoferrygolf.com/event/topdressing-greens-5/
LOCATION:Links at Stono Ferry\, 4812 Stono Links Drive\, Hollywood\, SC\, United States
END:VEVENT
BEGIN:VEVENT
DTSTART;TZID=America/New_York:20240814T110000
DTEND;TZID=America/New_York:20240814T143000
DTSTAMP:20260420T081420
CREATED:20240711T181711Z
LAST-MODIFIED:20240711T181711Z
UID:5462-1723633200-1723645800@stonoferrygolf.com
SUMMARY:Topdressing Greens
DESCRIPTION:Tee sheet blocked from 11:00 am – 2:30 pm.
URL:https://stonoferrygolf.com/event/topdressing-greens-4/
LOCATION:Links at Stono Ferry\, 4812 Stono Links Drive\, Hollywood\, SC\, United States
END:VEVENT
BEGIN:VEVENT
DTSTART;TZID=America/New_York:20240813T060000
DTEND;TZID=America/New_York:20240813T110000
DTSTAMP:20260420T081420
CREATED:20240711T180114Z
LAST-MODIFIED:20240711T180114Z
UID:5442-1723528800-1723546800@stonoferrygolf.com
SUMMARY:Range Maintenance 6-11am
DESCRIPTION:All practice facilities will be closed until 11am.
URL:https://stonoferrygolf.com/event/range-maintenance-6-11am-7/
LOCATION:Links at Stono Ferry\, 4812 Stono Links Drive\, Hollywood\, SC\, United States
END:VEVENT
BEGIN:VEVENT
DTSTART;TZID=America/New_York:20240808T060000
DTEND;TZID=America/New_York:20240808T110000
DTSTAMP:20260420T081420
CREATED:20240711T175757Z
LAST-MODIFIED:20240711T175949Z
UID:5440-1723096800-1723114800@stonoferrygolf.com
SUMMARY:Range Maintenance 6-11am
DESCRIPTION:All practice facilities will be closed until 11am.
URL:https://stonoferrygolf.com/event/range-maintenance-6-11am-6/
LOCATION:Links at Stono Ferry\, 4812 Stono Links Drive\, Hollywood\, SC\, United States
END:VEVENT
BEGIN:VEVENT
DTSTART;TZID=America/New_York:20240806T110000
DTEND;TZID=America/New_York:20240806T143000
DTSTAMP:20260420T081420
CREATED:20240711T181524Z
LAST-MODIFIED:20240711T181524Z
UID:5459-1722942000-1722954600@stonoferrygolf.com
SUMMARY:Topdressing Greens
DESCRIPTION:Tee sheet blocked from 11:00 am – 2:30 pm.
URL:https://stonoferrygolf.com/event/topdressing-greens-3/
LOCATION:Links at Stono Ferry\, 4812 Stono Links Drive\, Hollywood\, SC\, United States
END:VEVENT
BEGIN:VEVENT
DTSTART;TZID=America/New_York:20240805T080000
DTEND;TZID=America/New_York:20240806T170000
DTSTAMP:20260420T081420
CREATED:20240130T221018Z
LAST-MODIFIED:20240130T221018Z
UID:5298-1722844800-1722963600@stonoferrygolf.com
SUMMARY:Edisto Core Aerification
DESCRIPTION:
URL:https://stonoferrygolf.com/event/edisto-core-aerification-2/
LOCATION:Plantation Course at Edisto Beach\, 19 Fairway Drive\, Edisto Island\, SC\, United States
CATEGORIES:Course Maintenance
END:VEVENT
BEGIN:VEVENT
DTSTART;TZID=America/New_York:20240730T100000
DTEND;TZID=America/New_York:20240730T150000
DTSTAMP:20260420T081420
CREATED:20240711T181403Z
LAST-MODIFIED:20240711T181605Z
UID:5457-1722333600-1722351600@stonoferrygolf.com
SUMMARY:Topdressing Greens
DESCRIPTION:Tee sheet blocked from 10:00 am – 3:00 pm.
URL:https://stonoferrygolf.com/event/topdressing-greens-2/
LOCATION:Links at Stono Ferry\, 4812 Stono Links Drive\, Hollywood\, SC\, United States
END:VEVENT
BEGIN:VEVENT
DTSTART;TZID=America/New_York:20240730T080000
DTEND;TZID=America/New_York:20240730T110000
DTSTAMP:20260420T081420
CREATED:20240711T175637Z
LAST-MODIFIED:20240711T175637Z
UID:5438-1722326400-1722337200@stonoferrygolf.com
SUMMARY:Range Maintenance 6-11am
DESCRIPTION:All practice facilities will be closed until 11am.
URL:https://stonoferrygolf.com/event/range-maintenance-6-11am-3/
LOCATION:Links at Stono Ferry\, 4812 Stono Links Drive\, Hollywood\, SC\, United States
END:VEVENT
BEGIN:VEVENT
DTSTART;TZID=America/New_York:20240726T160000
DTEND;TZID=America/New_York:20240726T180000
DTSTAMP:20260420T081420
CREATED:20240716T191108Z
LAST-MODIFIED:20240716T191108Z
UID:5476-1722009600-1722016800@stonoferrygolf.com
SUMMARY:Summer Sandy Social
DESCRIPTION:Summer Sandy Social \nDate July 26th 4pm-8pm \nGolf\, Drinks\, Food \nMember’s Only \nEntry $60 per player \nIncludes: Golf & Cart\, Food provided by Dixieland Delights Catering. \nDomestic beer\, wine\, and nonalcoholic beverages included. \nDeadline to Register is July 18th \nJoin us for the Summer Sandy Social on July 26th at 4pm\, perfectly timed with the greens freshly punched and beach season in full swing. Stono Ferry will be hosting a back 9 par 3 contest with fun and unique tee and hole locations. Throughout the event\, enjoy libations and stick around for a delicious Barbeque afterwards. \n  \nSign up as teams of two\, or join solo—the more\, the merrier! Stono will organize everyone into teams of four and play in a shamble format. It promises to be a fantastic afternoon of golf and camaraderie! \n  \nMake sure to bring your music and dress in your best beach swinging attire\, as we will award a prize for the best-dressed foursome at the end of the event. Get ready for a fun-filled day on the course!
URL:https://stonoferrygolf.com/event/summer-sandy-social/
LOCATION:Links at Stono Ferry\, 4812 Stono Links Drive\, Hollywood\, SC\, United States
END:VEVENT
BEGIN:VEVENT
DTSTART;TZID=America/New_York:20240725T060000
DTEND;TZID=America/New_York:20240725T110000
DTSTAMP:20260420T081420
CREATED:20240711T175146Z
LAST-MODIFIED:20240711T175525Z
UID:5433-1721887200-1721905200@stonoferrygolf.com
SUMMARY:Range Maintenance 6-11am
DESCRIPTION:All practice facilities will be closed until 11am.
URL:https://stonoferrygolf.com/event/range-maintenance-6-11am-5/
LOCATION:Links at Stono Ferry\, 4812 Stono Links Drive\, Hollywood\, SC\, United States
END:VEVENT
BEGIN:VEVENT
DTSTART;TZID=America/New_York:20240723T080000
DTEND;TZID=America/New_York:20240802T170000
DTSTAMP:20260420T081420
CREATED:20240717T135948Z
LAST-MODIFIED:20240717T135948Z
UID:5480-1721721600-1722618000@stonoferrygolf.com
SUMMARY:Aerification Special
DESCRIPTION:Stono Ferry will be Aerifying the greens July 23-July 25. We will be extending our aerification special of $60 to Friday August 2nd.
URL:https://stonoferrygolf.com/event/aerification-special/
LOCATION:Links at Stono Ferry\, 4812 Stono Links Drive\, Hollywood\, SC\, United States
END:VEVENT
BEGIN:VEVENT
DTSTART;TZID=America/New_York:20240723T080000
DTEND;TZID=America/New_York:20240725T170000
DTSTAMP:20260420T081420
CREATED:20240130T220925Z
LAST-MODIFIED:20240130T220925Z
UID:5296-1721721600-1721926800@stonoferrygolf.com
SUMMARY:Core Aerification
DESCRIPTION:
URL:https://stonoferrygolf.com/event/core-aerification/
LOCATION:Links at Stono Ferry\, 4812 Stono Links Drive\, Hollywood\, SC\, United States
CATEGORIES:Course Maintenance
END:VEVENT
BEGIN:VEVENT
DTSTART;VALUE=DATE:20240723
DTEND;VALUE=DATE:20240726
DTSTAMP:20260420T081420
CREATED:20240711T182628Z
LAST-MODIFIED:20240711T182628Z
UID:5472-1721692800-1721951999@stonoferrygolf.com
SUMMARY:Course Aerification
DESCRIPTION:Course closed. Practice facilities are open.
URL:https://stonoferrygolf.com/event/course-aerification/
LOCATION:Links at Stono Ferry\, 4812 Stono Links Drive\, Hollywood\, SC\, United States
END:VEVENT
BEGIN:VEVENT
DTSTART;TZID=America/New_York:20240716T060000
DTEND;TZID=America/New_York:20240716T110000
DTSTAMP:20260420T081420
CREATED:20240711T175022Z
LAST-MODIFIED:20240711T175022Z
UID:5430-1721109600-1721127600@stonoferrygolf.com
SUMMARY:Range Maintenance 6-11am
DESCRIPTION:All practice facilities will be closed until 11am.
URL:https://stonoferrygolf.com/event/range-maintenance-6-11am-4/
LOCATION:Links at Stono Ferry\, 4812 Stono Links Drive\, Hollywood\, SC\, United States
END:VEVENT
BEGIN:VEVENT
DTSTART;TZID=America/New_York:20240712T080000
DTEND;TZID=America/New_York:20240714T170000
DTSTAMP:20260420T081420
CREATED:20240130T220820Z
LAST-MODIFIED:20240711T125016Z
UID:5293-1720771200-1720976400@stonoferrygolf.com
SUMMARY:Tot Hill Farm Invitational
DESCRIPTION:
URL:https://stonoferrygolf.com/event/tot-hill-farm-invitational/
LOCATION:Tot Hill Farm Golf Club\, 3185 Tot Hill Farm Road\, Asheboro\, NC\, United States
CATEGORIES:Member Event
END:VEVENT
BEGIN:VEVENT
DTSTART;TZID=America/New_York:20240711T060000
DTEND;TZID=America/New_York:20240711T110000
DTSTAMP:20260420T081420
CREATED:20240711T125203Z
LAST-MODIFIED:20240711T125203Z
UID:5423-1720677600-1720695600@stonoferrygolf.com
SUMMARY:Range Maintenance 6-11am
DESCRIPTION:All practice facilities will be closed until 11am.
URL:https://stonoferrygolf.com/event/range-maintenance-6-11am/
LOCATION:Links at Stono Ferry\, 4812 Stono Links Drive\, Hollywood\, SC\, United States
END:VEVENT
BEGIN:VEVENT
DTSTART;TZID=America/New_York:20240709T110000
DTEND;TZID=America/New_York:20240709T143000
DTSTAMP:20260420T081420
CREATED:20240711T181250Z
LAST-MODIFIED:20240711T181250Z
UID:5455-1720522800-1720535400@stonoferrygolf.com
SUMMARY:Topdressing Greens
DESCRIPTION:Tee sheet blocked from 11:00 am – 2:30 pm.
URL:https://stonoferrygolf.com/event/topdressing-greens/
LOCATION:Links at Stono Ferry\, 4812 Stono Links Drive\, Hollywood\, SC\, United States
END:VEVENT
BEGIN:VEVENT
DTSTART;TZID=America/New_York:20240702T060000
DTEND;TZID=America/New_York:20240702T230000
DTSTAMP:20260420T081420
CREATED:20240711T174644Z
LAST-MODIFIED:20240711T174644Z
UID:5426-1719900000-1719961200@stonoferrygolf.com
SUMMARY:Range Maintenance 6-11am
DESCRIPTION:All practice facilities will be closed until 11am.
URL:https://stonoferrygolf.com/event/range-maintenance-6-11am-2/
LOCATION:Links at Stono Ferry\, 4812 Stono Links Drive\, Hollywood\, SC\, United States
END:VEVENT
BEGIN:VEVENT
DTSTART;TZID=America/New_York:20240629T090000
DTEND;TZID=America/New_York:20240629T160000
DTSTAMP:20260420T081420
CREATED:20240614T135758Z
LAST-MODIFIED:20240614T135758Z
UID:5412-1719651600-1719676800@stonoferrygolf.com
SUMMARY:Titleist Golf Ball Fitting
DESCRIPTION:Find out if your playing the right golf ball. A representative from Titleist will be joining us from 9-4pm on the 29th of June. \nReservations only\, please see the link attached to register. \n96203_2024 Golf Ball Fitting Intern Sell Sheet
URL:https://stonoferrygolf.com/event/titleist-golf-ball-fitting/
LOCATION:SC
END:VEVENT
BEGIN:VEVENT
DTSTART;TZID=America/New_York:20240628T060000
DTEND;TZID=America/New_York:20240628T110000
DTSTAMP:20260420T081420
CREATED:20240628T194802Z
LAST-MODIFIED:20240711T124923Z
UID:5419-1719554400-1719572400@stonoferrygolf.com
SUMMARY:Range Maintenance
DESCRIPTION:The driving range and all practice facilities will be closed until 11am.
URL:https://stonoferrygolf.com/event/range-maintenance-2/
LOCATION:SC
CATEGORIES:Course Maintenance
END:VEVENT
BEGIN:VEVENT
DTSTART;TZID=America/New_York:20240625T120000
DTEND;TZID=America/New_York:20240625T170000
DTSTAMP:20260420T081420
CREATED:20240624T185956Z
LAST-MODIFIED:20240624T185956Z
UID:5416-1719316800-1719334800@stonoferrygolf.com
SUMMARY:Junior Tournament
DESCRIPTION:Stono Ferry is hosting a local junior golf tournament. The tournament will be using the first tee from 12-4pm
URL:https://stonoferrygolf.com/event/junior-tournament/
LOCATION:Links at Stono Ferry\, 4812 Stono Links Drive\, Hollywood\, SC\, United States
END:VEVENT
END:VCALENDAR