BEGIN:VCALENDAR
VERSION:2.0
PRODID:-//The Links at Stono Ferry - ECPv6.15.20//NONSGML v1.0//EN
CALSCALE:GREGORIAN
METHOD:PUBLISH
X-WR-CALNAME:The Links at Stono Ferry
X-ORIGINAL-URL:https://stonoferrygolf.com
X-WR-CALDESC:Events for The Links at Stono Ferry
REFRESH-INTERVAL;VALUE=DURATION:PT1H
X-Robots-Tag:noindex
X-PUBLISHED-TTL:PT1H
BEGIN:VTIMEZONE
TZID:America/New_York
BEGIN:DAYLIGHT
TZOFFSETFROM:-0500
TZOFFSETTO:-0400
TZNAME:EDT
DTSTART:20230312T070000
END:DAYLIGHT
BEGIN:STANDARD
TZOFFSETFROM:-0400
TZOFFSETTO:-0500
TZNAME:EST
DTSTART:20231105T060000
END:STANDARD
BEGIN:DAYLIGHT
TZOFFSETFROM:-0500
TZOFFSETTO:-0400
TZNAME:EDT
DTSTART:20240310T070000
END:DAYLIGHT
BEGIN:STANDARD
TZOFFSETFROM:-0400
TZOFFSETTO:-0500
TZNAME:EST
DTSTART:20241103T060000
END:STANDARD
BEGIN:DAYLIGHT
TZOFFSETFROM:-0500
TZOFFSETTO:-0400
TZNAME:EDT
DTSTART:20250309T070000
END:DAYLIGHT
BEGIN:STANDARD
TZOFFSETFROM:-0400
TZOFFSETTO:-0500
TZNAME:EST
DTSTART:20251102T060000
END:STANDARD
BEGIN:DAYLIGHT
TZOFFSETFROM:-0500
TZOFFSETTO:-0400
TZNAME:EDT
DTSTART:20260308T070000
END:DAYLIGHT
BEGIN:STANDARD
TZOFFSETFROM:-0400
TZOFFSETTO:-0500
TZNAME:EST
DTSTART:20261101T060000
END:STANDARD
END:VTIMEZONE
BEGIN:VEVENT
DTSTART;TZID=America/New_York:20250220T100000
DTEND;TZID=America/New_York:20250220T170000
DTSTAMP:20260420T040447
CREATED:20250220T200150Z
LAST-MODIFIED:20250220T200150Z
UID:5649-1740045600-1740070800@stonoferrygolf.com
SUMMARY:Frost Delay - 9:00 AM Tee Time Start
DESCRIPTION:Updated Tee Sheet \nTee Sheet – Friday 2.21.25
URL:https://stonoferrygolf.com/event/frost-delay-900-am-tee-time-start/
LOCATION:Links at Stono Ferry\, 4812 Stono Links Drive\, Hollywood\, SC\, United States
END:VEVENT
BEGIN:VEVENT
DTSTART;TZID=America/New_York:20250219T130000
DTEND;TZID=America/New_York:20250219T143000
DTSTAMP:20260420T040447
CREATED:20250107T160750Z
LAST-MODIFIED:20250107T160750Z
UID:5591-1739970000-1739975400@stonoferrygolf.com
SUMMARY:CofC Golf Class
DESCRIPTION:Exam & Range Work
URL:https://stonoferrygolf.com/event/cofc-golf-class-5/
LOCATION:Links at Stono Ferry\, 4812 Stono Links Drive\, Hollywood\, SC\, United States
END:VEVENT
BEGIN:VEVENT
DTSTART;TZID=America/New_York:20250212T130000
DTEND;TZID=America/New_York:20250212T143000
DTSTAMP:20260420T040447
CREATED:20250107T160613Z
LAST-MODIFIED:20250107T160613Z
UID:5590-1739365200-1739370600@stonoferrygolf.com
SUMMARY:CofC Class
DESCRIPTION:Putting & Range Work
URL:https://stonoferrygolf.com/event/cofc-class/
LOCATION:Links at Stono Ferry\, 4812 Stono Links Drive\, Hollywood\, SC\, United States
END:VEVENT
BEGIN:VEVENT
DTSTART;TZID=America/New_York:20250209T080000
DTEND;TZID=America/New_York:20250209T120000
DTSTAMP:20260420T040447
CREATED:20241226T150551Z
LAST-MODIFIED:20241226T150551Z
UID:5530-1739088000-1739102400@stonoferrygolf.com
SUMMARY:Super Bowl Blitz
DESCRIPTION:
URL:https://stonoferrygolf.com/event/super-bowl-blitz/
LOCATION:Links at Stono Ferry\, 4812 Stono Links Drive\, Hollywood\, SC\, United States
END:VEVENT
BEGIN:VEVENT
DTSTART;TZID=America/New_York:20250208T080000
DTEND;TZID=America/New_York:20250208T170000
DTSTAMP:20260420T040447
CREATED:20241226T150342Z
LAST-MODIFIED:20241226T150342Z
UID:5529-1739001600-1739034000@stonoferrygolf.com
SUMMARY:WGA Opening Day
DESCRIPTION:
URL:https://stonoferrygolf.com/event/wga-opening-day-2/
LOCATION:Links at Stono Ferry\, 4812 Stono Links Drive\, Hollywood\, SC\, United States
CATEGORIES:WGA
END:VEVENT
BEGIN:VEVENT
DTSTART;TZID=America/New_York:20250205T170000
DTEND;TZID=America/New_York:20250205T200000
DTSTAMP:20260420T040447
CREATED:20241226T145030Z
LAST-MODIFIED:20250116T161228Z
UID:5528-1738774800-1738785600@stonoferrygolf.com
SUMMARY:Bourbon Bingo & Bubbles
DESCRIPTION:Sign Up Information: https://league.unknowngolf.com/signUpQuestionnaire.jsp?t=0&ac=hiKgIInw&eventId=59732
URL:https://stonoferrygolf.com/event/bourbon-bingo-bubbles/
LOCATION:Links at Stono Ferry\, 4812 Stono Links Drive\, Hollywood\, SC\, United States
END:VEVENT
BEGIN:VEVENT
DTSTART;TZID=America/New_York:20250205T130000
DTEND;TZID=America/New_York:20250205T143000
DTSTAMP:20260420T040447
CREATED:20250107T160512Z
LAST-MODIFIED:20250107T160512Z
UID:5589-1738760400-1738765800@stonoferrygolf.com
SUMMARY:CofC Golf Class
DESCRIPTION:Chipping & Range Work
URL:https://stonoferrygolf.com/event/cofc-golf-class-4/
LOCATION:Links at Stono Ferry\, 4812 Stono Links Drive\, Hollywood\, SC\, United States
END:VEVENT
BEGIN:VEVENT
DTSTART;VALUE=DATE:20250203
DTEND;VALUE=DATE:20250205
DTSTAMP:20260420T040447
CREATED:20241229T180233Z
LAST-MODIFIED:20250127T191920Z
UID:5567-1738540800-1738713599@stonoferrygolf.com
SUMMARY:CofC Indy Tournament
DESCRIPTION:8:00 AM Shotgun Start
URL:https://stonoferrygolf.com/event/cofc-indy-tournament/
LOCATION:Links at Stono Ferry\, 4812 Stono Links Drive\, Hollywood\, SC\, United States
END:VEVENT
BEGIN:VEVENT
DTSTART;TZID=America/New_York:20250129T130000
DTEND;TZID=America/New_York:20250129T143000
DTSTAMP:20260420T040447
CREATED:20250107T160417Z
LAST-MODIFIED:20250107T160417Z
UID:5588-1738155600-1738161000@stonoferrygolf.com
SUMMARY:CofC Golf Class
DESCRIPTION:Putting & Range Work
URL:https://stonoferrygolf.com/event/cofc-golf-class-3/
LOCATION:Links at Stono Ferry\, 4812 Stono Links Drive\, Hollywood\, SC\, United States
END:VEVENT
BEGIN:VEVENT
DTSTART;TZID=America/New_York:20250128T100000
DTEND;TZID=America/New_York:20250128T170000
DTSTAMP:20260420T040447
CREATED:20250127T171552Z
LAST-MODIFIED:20250127T171635Z
UID:5636-1738058400-1738083600@stonoferrygolf.com
SUMMARY:Frost Delay - 10:00 AM Tee Time Start
DESCRIPTION:Updated Tee Sheet \nUpdated Tee Sheet – Jan 1-28-25
URL:https://stonoferrygolf.com/event/frost-delay-1000-am-tee-time-start-3/
LOCATION:Links at Stono Ferry\, 4812 Stono Links Drive\, Hollywood\, SC\, United States
END:VEVENT
BEGIN:VEVENT
DTSTART;VALUE=DATE:20250127
DTEND;VALUE=DATE:20250128
DTSTAMP:20260420T040447
CREATED:20250127T151012Z
LAST-MODIFIED:20250127T151020Z
UID:5635-1737936000-1738022399@stonoferrygolf.com
SUMMARY:COURSE CLOSED
DESCRIPTION:
URL:https://stonoferrygolf.com/event/couirse-closed/
LOCATION:Links at Stono Ferry\, 4812 Stono Links Drive\, Hollywood\, SC\, United States
END:VEVENT
BEGIN:VEVENT
DTSTART;VALUE=DATE:20250126
DTEND;VALUE=DATE:20250127
DTSTAMP:20260420T040447
CREATED:20250126T194447Z
LAST-MODIFIED:20250126T194459Z
UID:5633-1737849600-1737935999@stonoferrygolf.com
SUMMARY:Course and Practice Facilities Closed
DESCRIPTION:Do to icy conditions the golf course and practice facilities will remain closed. We are planning to re-open the facility Tuesday 1/28. \n  \nThe Stono Grill will be open from 9-3pm
URL:https://stonoferrygolf.com/event/course-and-practice-facilities-closed/
LOCATION:Links at Stono Ferry\, 4812 Stono Links Drive\, Hollywood\, SC\, United States
END:VEVENT
BEGIN:VEVENT
DTSTART;VALUE=DATE:20250125
DTEND;VALUE=DATE:20250127
DTSTAMP:20260420T040447
CREATED:20250124T151838Z
LAST-MODIFIED:20250125T174844Z
UID:5631-1737763200-1737935999@stonoferrygolf.com
SUMMARY:COURSE CLOSED
DESCRIPTION:
URL:https://stonoferrygolf.com/event/course-closed-5/
LOCATION:Links at Stono Ferry\, 4812 Stono Links Drive\, Hollywood\, SC\, United States
END:VEVENT
BEGIN:VEVENT
DTSTART;VALUE=DATE:20250124
DTEND;VALUE=DATE:20250125
DTSTAMP:20260420T040447
CREATED:20250123T182730Z
LAST-MODIFIED:20250123T182730Z
UID:5629-1737676800-1737763199@stonoferrygolf.com
SUMMARY:COURSE CLOSED
DESCRIPTION:
URL:https://stonoferrygolf.com/event/course-closed-4/
LOCATION:Links at Stono Ferry\, 4812 Stono Links Drive\, Hollywood\, SC\, United States
END:VEVENT
BEGIN:VEVENT
DTSTART;VALUE=DATE:20250123
DTEND;VALUE=DATE:20250124
DTSTAMP:20260420T040447
CREATED:20250123T174021Z
LAST-MODIFIED:20250123T174021Z
UID:5627-1737590400-1737676799@stonoferrygolf.com
SUMMARY:COURSE CLOSED
DESCRIPTION:
URL:https://stonoferrygolf.com/event/course-closed-3/
LOCATION:Links at Stono Ferry\, 4812 Stono Links Drive\, Hollywood\, SC\, United States
END:VEVENT
BEGIN:VEVENT
DTSTART;TZID=America/New_York:20250122T130000
DTEND;TZID=America/New_York:20250122T140000
DTSTAMP:20260420T040447
CREATED:20250107T160106Z
LAST-MODIFIED:20250107T160106Z
UID:5587-1737550800-1737554400@stonoferrygolf.com
SUMMARY:CofC Golf Class
DESCRIPTION:Lecture & Range Work
URL:https://stonoferrygolf.com/event/cofc-golf-class-2/
LOCATION:Links at Stono Ferry\, 4812 Stono Links Drive\, Hollywood\, SC\, United States
END:VEVENT
BEGIN:VEVENT
DTSTART;VALUE=DATE:20250122
DTEND;VALUE=DATE:20250123
DTSTAMP:20260420T040447
CREATED:20250116T162640Z
LAST-MODIFIED:20250116T162640Z
UID:5611-1737504000-1737590399@stonoferrygolf.com
SUMMARY:COURSE CLOSED
DESCRIPTION:
URL:https://stonoferrygolf.com/event/course-closed-2/
LOCATION:Links at Stono Ferry\, 4812 Stono Links Drive\, Hollywood\, SC\, United States
END:VEVENT
BEGIN:VEVENT
DTSTART;TZID=America/New_York:20250121T100000
DTEND;TZID=America/New_York:20250121T170000
DTSTAMP:20260420T040447
CREATED:20250114T180918Z
LAST-MODIFIED:20250114T180918Z
UID:5604-1737453600-1737478800@stonoferrygolf.com
SUMMARY:Frost Delay – 10:00 AM Tee Time Start
DESCRIPTION:Updated Tee Sheet \nTuesday – Jan 21-25
URL:https://stonoferrygolf.com/event/frost-delay-1000-am-tee-time-start-2/
LOCATION:Links at Stono Ferry\, 4812 Stono Links Drive\, Hollywood\, SC\, United States
END:VEVENT
BEGIN:VEVENT
DTSTART;TZID=America/New_York:20250120T100000
DTEND;TZID=America/New_York:20250120T170000
DTSTAMP:20260420T040447
CREATED:20250114T180653Z
LAST-MODIFIED:20250114T181015Z
UID:5602-1737367200-1737392400@stonoferrygolf.com
SUMMARY:Frost Delay - 10:00 AM Tee Time Start
DESCRIPTION:Updated Tee Sheet \nMonday – Jan 20-25
URL:https://stonoferrygolf.com/event/frost-delay-1000-am-tee-time-start/
LOCATION:Links at Stono Ferry\, 4812 Stono Links Drive\, Hollywood\, SC\, United States
END:VEVENT
BEGIN:VEVENT
DTSTART;TZID=America/New_York:20250116T170000
DTEND;TZID=America/New_York:20250116T170000
DTSTAMP:20260420T040447
CREATED:20241226T144901Z
LAST-MODIFIED:20250103T140333Z
UID:5527-1737046800-1737046800@stonoferrygolf.com
SUMMARY:Burgers & Brews
DESCRIPTION:
URL:https://stonoferrygolf.com/event/burgers-brews-2/
LOCATION:Links at Stono Ferry\, 4812 Stono Links Drive\, Hollywood\, SC\, United States
END:VEVENT
BEGIN:VEVENT
DTSTART;TZID=America/New_York:20250115T130000
DTEND;TZID=America/New_York:20250115T143000
DTSTAMP:20260420T040447
CREATED:20250107T160002Z
LAST-MODIFIED:20250107T160002Z
UID:5586-1736946000-1736951400@stonoferrygolf.com
SUMMARY:CofC Golf Class
DESCRIPTION:Lecture & Range Work
URL:https://stonoferrygolf.com/event/cofc-golf-class/
LOCATION:Links at Stono Ferry\, 4812 Stono Links Drive\, Hollywood\, SC\, United States
END:VEVENT
BEGIN:VEVENT
DTSTART;VALUE=DATE:20250113
DTEND;VALUE=DATE:20250114
DTSTAMP:20260420T040447
CREATED:20241229T180126Z
LAST-MODIFIED:20241229T184354Z
UID:5566-1736726400-1736812799@stonoferrygolf.com
SUMMARY:Coastal Seniors Tournament - COURSE CLOSED
DESCRIPTION:10:00 AM Shotgun Start
URL:https://stonoferrygolf.com/event/coastal-seniors-tournament-course-closed/
LOCATION:Links at Stono Ferry\, 4812 Stono Links Drive\, Hollywood\, SC\, United States
END:VEVENT
BEGIN:VEVENT
DTSTART;VALUE=DATE:20250109
DTEND;VALUE=DATE:20250110
DTSTAMP:20260420T040447
CREATED:20241229T180044Z
LAST-MODIFIED:20241229T184251Z
UID:5565-1736380800-1736467199@stonoferrygolf.com
SUMMARY:PSMG Tournament - COURSE CLOSED
DESCRIPTION:9:00 AM Shotgun Start
URL:https://stonoferrygolf.com/event/psmg-tournament-course-closed/
LOCATION:Links at Stono Ferry\, 4812 Stono Links Drive\, Hollywood\, SC\, United States
END:VEVENT
BEGIN:VEVENT
DTSTART;VALUE=DATE:20241225
DTEND;VALUE=DATE:20241226
DTSTAMP:20260420T040447
CREATED:20241210T171101Z
LAST-MODIFIED:20241210T171101Z
UID:5524-1735084800-1735171199@stonoferrygolf.com
SUMMARY:Course Closed
DESCRIPTION:
URL:https://stonoferrygolf.com/event/course-closed/
LOCATION:Links at Stono Ferry\, 4812 Stono Links Drive\, Hollywood\, SC\, United States
END:VEVENT
BEGIN:VEVENT
DTSTART;VALUE=DATE:20241224
DTEND;VALUE=DATE:20241225
DTSTAMP:20260420T040447
CREATED:20241210T170928Z
LAST-MODIFIED:20241210T171040Z
UID:5523-1734998400-1735084799@stonoferrygolf.com
SUMMARY:Christmas Eve Tee Times End 11:00 AM
DESCRIPTION:
URL:https://stonoferrygolf.com/event/christmas-eve-tee-times-end-1100-am/
LOCATION:Links at Stono Ferry\, 4812 Stono Links Drive\, Hollywood\, SC\, United States
END:VEVENT
BEGIN:VEVENT
DTSTART;TZID=America/New_York:20241214T080000
DTEND;TZID=America/New_York:20241214T170000
DTSTAMP:20260420T040447
CREATED:20240130T223425Z
LAST-MODIFIED:20240130T223425Z
UID:5316-1734163200-1734195600@stonoferrygolf.com
SUMMARY:WGA Closing Day
DESCRIPTION:
URL:https://stonoferrygolf.com/event/wga-closing-day/
LOCATION:Links at Stono Ferry\, 4812 Stono Links Drive\, Hollywood\, SC\, United States
CATEGORIES:WGA
END:VEVENT
BEGIN:VEVENT
DTSTART;TZID=America/New_York:20241212T170000
DTEND;TZID=America/New_York:20241212T200000
DTSTAMP:20260420T040447
CREATED:20241210T170803Z
LAST-MODIFIED:20241210T170803Z
UID:5522-1734022800-1734033600@stonoferrygolf.com
SUMMARY:Burgers & Brews
DESCRIPTION:
URL:https://stonoferrygolf.com/event/burgers-brews/
LOCATION:Links at Stono Ferry\, 4812 Stono Links Drive\, Hollywood\, SC\, United States
END:VEVENT
BEGIN:VEVENT
DTSTART;TZID=America/New_York:20241212T160000
DTEND;TZID=America/New_York:20241212T200000
DTSTAMP:20260420T040447
CREATED:20241210T170652Z
LAST-MODIFIED:20241210T170716Z
UID:5521-1734019200-1734033600@stonoferrygolf.com
SUMMARY:Holiday Sale
DESCRIPTION:
URL:https://stonoferrygolf.com/event/holiday-sale-400-pm-800-pm/
LOCATION:Links at Stono Ferry\, 4812 Stono Links Drive\, Hollywood\, SC\, United States
END:VEVENT
BEGIN:VEVENT
DTSTART;TZID=America/New_York:20241203T080000
DTEND;TZID=America/New_York:20241203T170000
DTSTAMP:20260420T040447
CREATED:20240130T223354Z
LAST-MODIFIED:20240130T223354Z
UID:5314-1733212800-1733245200@stonoferrygolf.com
SUMMARY:Gifts for Golf Tournament
DESCRIPTION:
URL:https://stonoferrygolf.com/event/gifts-for-golf-tournament/
LOCATION:Links at Stono Ferry\, 4812 Stono Links Drive\, Hollywood\, SC\, United States
CATEGORIES:Member Event
END:VEVENT
BEGIN:VEVENT
DTSTART;TZID=America/New_York:20241109T080000
DTEND;TZID=America/New_York:20241109T170000
DTSTAMP:20260420T040447
CREATED:20240130T223323Z
LAST-MODIFIED:20240208T182256Z
UID:5312-1731139200-1731171600@stonoferrygolf.com
SUMMARY:Wine Tasting Cancelled
DESCRIPTION:
URL:https://stonoferrygolf.com/event/wine-tasting-2/
LOCATION:Links at Stono Ferry\, 4812 Stono Links Drive\, Hollywood\, SC\, United States
CATEGORIES:Member Event
END:VEVENT
END:VCALENDAR